BEGIN:VCALENDAR
VERSION:2.0
PRODID:DPCALENDAR
CALSCALE:GREGORIAN
BEGIN:VTIMEZONE
TZID:UTC
X-MICROSOFT-CDO-TZID:0
END:VTIMEZONE
X-WR-TIMEZONE:UTC
BEGIN:VEVENT
DTSTART;TZID=UTC:20230512T100000
DTEND;TZID=UTC:20230514T110000
UID:0E7476F0-58D1-4D72-AF57-74F78D164246
SUMMARY:Първи национален конгрес на БАМИРХ с международно участие 12-14 Май 2023
CREATED:20230317T101150Z
DTSTAMP:20230317T101150Z
DESCRIPTION:Първи национален конгрес на БАМИРХ с международно участие 12-14 Май 2023
X-ALT-DESC;FMTTYPE=text/html:<h3><a href="https://bamirs.bg/index.php/bg/%D1%81%D1%8A%D0%B1%D0%B8%D1%82%D0%B8%D1%8F/%D0%BF%D1%8A%D1%80%D0%B2%D0%B8-%D0%BD%D0%B0%D1%86%D0%B8%D0%BE%D0%BD%D0%B0%D0%BB%D0%B5%D0%BD-%D0%BA%D0%BE%D0%BD%D0%B3%D1%80%D0%B5%D1%81-%D0%BD%D0%B0-%D0%B1%D0%B0%D0%BC%D0%B8%D1%80%D1%85-%D1%81-%D0%BC%D0%B5%D0%B6%D0%B4%D1%83%D0%BD%D0%B0%D1%80%D0%BE%D0%B4%D0%BD%D0%BE-%D1%83%D1%87%D0%B0%D1%81%D1%82%D0%B8%D0%B5-12-14-%D0%BC%D0%B0%D0%B9-2023">Първи национален конгрес на БАМИРХ с международно участие 12-14 Май 2023</a></h3>
X-ACCESS:1
X-HITS:0
X-URL:https://telec.mu-pleven.bg/index.php?option=com_dpcalendar&view=event&id=27&calid=14
X-COLOR:3366cc
X-SHOW-END-TIME:1
END:VEVENT
END:VCALENDAR